BEGIN:VCALENDAR
VERSION:2.0
PRODID:-//Skate Journeys - ECPv6.15.20//NONSGML v1.0//EN
CALSCALE:GREGORIAN
METHOD:PUBLISH
X-ORIGINAL-URL:https://skatejourneys.org
X-WR-CALDESC:Events for Skate Journeys
REFRESH-INTERVAL;VALUE=DURATION:PT1H
X-Robots-Tag:noindex
X-PUBLISHED-TTL:PT1H
BEGIN:VTIMEZONE
TZID:America/Los_Angeles
BEGIN:DAYLIGHT
TZOFFSETFROM:-0800
TZOFFSETTO:-0700
TZNAME:PDT
DTSTART:20240310T100000
END:DAYLIGHT
BEGIN:STANDARD
TZOFFSETFROM:-0700
TZOFFSETTO:-0800
TZNAME:PST
DTSTART:20241103T090000
END:STANDARD
BEGIN:DAYLIGHT
TZOFFSETFROM:-0800
TZOFFSETTO:-0700
TZNAME:PDT
DTSTART:20250309T100000
END:DAYLIGHT
BEGIN:STANDARD
TZOFFSETFROM:-0700
TZOFFSETTO:-0800
TZNAME:PST
DTSTART:20251102T090000
END:STANDARD
BEGIN:DAYLIGHT
TZOFFSETFROM:-0800
TZOFFSETTO:-0700
TZNAME:PDT
DTSTART:20260308T100000
END:DAYLIGHT
BEGIN:STANDARD
TZOFFSETFROM:-0700
TZOFFSETTO:-0800
TZNAME:PST
DTSTART:20261101T090000
END:STANDARD
BEGIN:DAYLIGHT
TZOFFSETFROM:-0800
TZOFFSETTO:-0700
TZNAME:PDT
DTSTART:20270314T100000
END:DAYLIGHT
BEGIN:STANDARD
TZOFFSETFROM:-0700
TZOFFSETTO:-0800
TZNAME:PST
DTSTART:20271107T090000
END:STANDARD
END:VTIMEZONE
BEGIN:VEVENT
DTSTART;TZID=America/Los_Angeles:20260418T090000
DTEND;TZID=America/Los_Angeles:20260418T103000
DTSTAMP:20260421T062332
CREATED:20260412T224112Z
LAST-MODIFIED:20260412T224113Z
UID:10004651-1776502800-1776508200@skatejourneys.org
SUMMARY:4/18 - Spring Instructor Apprentice Program: Learn to Teach Inline & Roller Skating
DESCRIPTION:Instructor Apprentice Program: Learn to Teach Inline & Roller Skating \n\nApril 11 – May 2\, 2026 | Saturdays\, 9:00–10:30am | Lynnwood Bowl & Skate \n\nA 4‑week training program for youth and adults (ages 12+) with intermediate skating skills who want to improve their skating\, learn how to teach\, and prepare for SkateIA Instructor Certification. \nCost: $125. Eligibility confirmation required before registration. \nWeekly Dates: \n\nApril 11 – Week 1\nApril 18 – Week 2\nApril 25– Week 3\nMay 2 – Week 4\n\nClick here for more information \n 
URL:https://skatejourneys.org/event/instructor-apprentice-program-learn-to-teach-inline-roller-skating-4/
LOCATION:Lynnwood Bowl and Skate\, 6210 200th St SW\, Lynnwood\, WA\, 98036\, United States
CATEGORIES:Featured events,highlights,Instructor Apprentice Program
ATTACH;FMTTYPE=image/jpeg:https://skatejourneys.org/wp-content/uploads/2025/01/Apprentice-Instructor-Program-1-1.jpg
END:VEVENT
BEGIN:VEVENT
DTSTART;TZID=America/Los_Angeles:20260411T090000
DTEND;TZID=America/Los_Angeles:20260411T103000
DTSTAMP:20260421T062332
CREATED:20260410T055741Z
LAST-MODIFIED:20260410T055743Z
UID:10004650-1775898000-1775903400@skatejourneys.org
SUMMARY:4/11 - Spring Instructor Apprentice Program: Learn to Teach Inline & Roller Skating
DESCRIPTION:Instructor Apprentice Program: Learn to Teach Inline & Roller Skating \n\nApril 11 – May 2\, 2026 | Saturdays\, 9:00–10:30am | Lynnwood Bowl & Skate \n\nA 4‑week training program for youth and adults (ages 12+) with intermediate skating skills who want to improve their skating\, learn how to teach\, and prepare for SkateIA Instructor Certification. \nCost: $125. Eligibility confirmation required before registration. \nWeekly Dates: \n\nApril 11 – Week 1\nApril 18 – Week 2\nApril 25– Week 3\nMay 2 – Week 4\n\nClick here for more information \n 
URL:https://skatejourneys.org/event/instructor-apprentice-program-learn-to-teach-inline-roller-skating-2/
LOCATION:Lynnwood Bowl and Skate\, 6210 200th St SW\, Lynnwood\, WA\, 98036\, United States
CATEGORIES:Featured events,highlights,Instructor Apprentice Program
ATTACH;FMTTYPE=image/jpeg:https://skatejourneys.org/wp-content/uploads/2025/01/Apprentice-Instructor-Program-1-1.jpg
END:VEVENT
BEGIN:VEVENT
DTSTART;TZID=America/Los_Angeles:20251207T084500
DTEND;TZID=America/Los_Angeles:20251207T104500
DTSTAMP:20260421T062332
CREATED:20250122T032946Z
LAST-MODIFIED:20251008T054930Z
UID:10000355-1765097100-1765104300@skatejourneys.org
SUMMARY:MAKE-UP - Lynnwood Apprentice Instructor Program
DESCRIPTION:Learn how to teach inline and roller skating and unlock opportunities to become an apprentice instructor or ambassador for Skate Journeys. This training is available for both adults and youth who share a passion for skating.
URL:https://skatejourneys.org/event/apprentice-instructor-program-2/
LOCATION:Lynnwood Bowl and Skate\, 6210 200th St SW\, Lynnwood\, WA\, 98036\, United States
CATEGORIES:Featured events,Instructor Apprentice Program
ATTACH;FMTTYPE=image/jpeg:https://skatejourneys.org/wp-content/uploads/2025/01/Apprentice-Instructor-Program-1-1.jpg
END:VEVENT
BEGIN:VEVENT
DTSTART;TZID=America/Los_Angeles:20251123T084500
DTEND;TZID=America/Los_Angeles:20251123T104500
DTSTAMP:20260421T062332
CREATED:20250122T024446Z
LAST-MODIFIED:20251008T054829Z
UID:10000353-1763887500-1763894700@skatejourneys.org
SUMMARY:Lynnwood Instructor Apprentice Program
DESCRIPTION:Learn how to teach inline and roller skating and unlock opportunities to become an apprentice instructor or ambassador for Skate Journeys. This training is available for both adults and youth who share a passion for skating. \nClick here for more information: Instructor Apprentice Program 2025 – Skate Camp – Skate Journeys
URL:https://skatejourneys.org/event/apprentice-instructor-program/2025-11-23/
LOCATION:Lynnwood Bowl and Skate\, 6210 200th St SW\, Lynnwood\, WA\, 98036\, United States
CATEGORIES:Featured events,Instructor Apprentice Program
ATTACH;FMTTYPE=image/jpeg:https://skatejourneys.org/wp-content/uploads/2025/01/Apprentice-Instructor-Program-1.jpg
END:VEVENT
BEGIN:VEVENT
DTSTART;TZID=America/Los_Angeles:20251116T084500
DTEND;TZID=America/Los_Angeles:20251116T104500
DTSTAMP:20260421T062332
CREATED:20250122T024446Z
LAST-MODIFIED:20251008T054829Z
UID:10000352-1763282700-1763289900@skatejourneys.org
SUMMARY:Lynnwood Instructor Apprentice Program
DESCRIPTION:Learn how to teach inline and roller skating and unlock opportunities to become an apprentice instructor or ambassador for Skate Journeys. This training is available for both adults and youth who share a passion for skating. \nClick here for more information: Instructor Apprentice Program 2025 – Skate Camp – Skate Journeys
URL:https://skatejourneys.org/event/apprentice-instructor-program/2025-11-16/
LOCATION:Lynnwood Bowl and Skate\, 6210 200th St SW\, Lynnwood\, WA\, 98036\, United States
CATEGORIES:Featured events,Instructor Apprentice Program
ATTACH;FMTTYPE=image/jpeg:https://skatejourneys.org/wp-content/uploads/2025/01/Apprentice-Instructor-Program-1.jpg
END:VEVENT
BEGIN:VEVENT
DTSTART;TZID=America/Los_Angeles:20251109T084500
DTEND;TZID=America/Los_Angeles:20251109T104500
DTSTAMP:20260421T062332
CREATED:20250122T024446Z
LAST-MODIFIED:20251008T054829Z
UID:10000351-1762677900-1762685100@skatejourneys.org
SUMMARY:Lynnwood Instructor Apprentice Program
DESCRIPTION:Learn how to teach inline and roller skating and unlock opportunities to become an apprentice instructor or ambassador for Skate Journeys. This training is available for both adults and youth who share a passion for skating. \nClick here for more information: Instructor Apprentice Program 2025 – Skate Camp – Skate Journeys
URL:https://skatejourneys.org/event/apprentice-instructor-program/2025-11-09/
LOCATION:Lynnwood Bowl and Skate\, 6210 200th St SW\, Lynnwood\, WA\, 98036\, United States
CATEGORIES:Featured events,Instructor Apprentice Program
ATTACH;FMTTYPE=image/jpeg:https://skatejourneys.org/wp-content/uploads/2025/01/Apprentice-Instructor-Program-1.jpg
END:VEVENT
BEGIN:VEVENT
DTSTART;TZID=America/Los_Angeles:20251102T084500
DTEND;TZID=America/Los_Angeles:20251102T104500
DTSTAMP:20260421T062332
CREATED:20250122T024446Z
LAST-MODIFIED:20251008T054829Z
UID:10000350-1762073100-1762080300@skatejourneys.org
SUMMARY:Lynnwood Instructor Apprentice Program
DESCRIPTION:Learn how to teach inline and roller skating and unlock opportunities to become an apprentice instructor or ambassador for Skate Journeys. This training is available for both adults and youth who share a passion for skating. \nClick here for more information: Instructor Apprentice Program 2025 – Skate Camp – Skate Journeys
URL:https://skatejourneys.org/event/apprentice-instructor-program/2025-11-02/
LOCATION:Lynnwood Bowl and Skate\, 6210 200th St SW\, Lynnwood\, WA\, 98036\, United States
CATEGORIES:Featured events,Instructor Apprentice Program
ATTACH;FMTTYPE=image/jpeg:https://skatejourneys.org/wp-content/uploads/2025/01/Apprentice-Instructor-Program-1.jpg
END:VEVENT
BEGIN:VEVENT
DTSTART;TZID=America/Los_Angeles:20251026T085000
DTEND;TZID=America/Los_Angeles:20251026T104500
DTSTAMP:20260421T062332
CREATED:20250714T223232Z
LAST-MODIFIED:20251023T173021Z
UID:10001457-1761468600-1761475500@skatejourneys.org
SUMMARY:10/26 - Lynnwood Sunday Classes - All levels
DESCRIPTION:At Skate Journeys\, we offer exciting weekend classes for both adults and children ages 5 and up to learn the art of inline and roller skating. Our expert SkateIA certified instructors provide effective techniques while fostering a safe\, supportive learning environment. Come and join us to learn the basics or improve your skating skills while having a great time! \nRegister for you First Class with Skate Journeys. Check out how Registration Hub – Skate Journeys Account – Skate Journeys\nLog-in to Customer Portal to register for Beginner 1 or purchase classes for Beginner 2 and up. Click here\nFor information on how to navigate being a new customer and returning customer go to: Click here\nClass Schedule: Click here
URL:https://skatejourneys.org/event/sunday-classes-all-level-7-8/
LOCATION:Lynnwood Bowl and Skate\, 6210 200th St SW\, Lynnwood\, WA\, 98036\, United States
CATEGORIES:Featured events,highlights,Instructor Apprentice Program,Weekend Classes
ATTACH;FMTTYPE=image/jpeg:https://skatejourneys.org/wp-content/uploads/2025/03/Sunday-CLASSES.jpg
END:VEVENT
BEGIN:VEVENT
DTSTART;TZID=America/Los_Angeles:20251026T084500
DTEND;TZID=America/Los_Angeles:20251026T104500
DTSTAMP:20260421T062332
CREATED:20250122T024446Z
LAST-MODIFIED:20251008T054829Z
UID:10000349-1761468300-1761475500@skatejourneys.org
SUMMARY:Lynnwood Instructor Apprentice Program
DESCRIPTION:Learn how to teach inline and roller skating and unlock opportunities to become an apprentice instructor or ambassador for Skate Journeys. This training is available for both adults and youth who share a passion for skating. \nClick here for more information: Instructor Apprentice Program 2025 – Skate Camp – Skate Journeys
URL:https://skatejourneys.org/event/apprentice-instructor-program/2025-10-26/
LOCATION:Lynnwood Bowl and Skate\, 6210 200th St SW\, Lynnwood\, WA\, 98036\, United States
CATEGORIES:Featured events,Instructor Apprentice Program
ATTACH;FMTTYPE=image/jpeg:https://skatejourneys.org/wp-content/uploads/2025/01/Apprentice-Instructor-Program-1.jpg
END:VEVENT
BEGIN:VEVENT
DTSTART;TZID=America/Los_Angeles:20251019T084500
DTEND;TZID=America/Los_Angeles:20251019T104500
DTSTAMP:20260421T062333
CREATED:20250508T062316Z
LAST-MODIFIED:20251008T054752Z
UID:10000348-1760863500-1760870700@skatejourneys.org
SUMMARY:Starts 10/19 - Lynnwood Instructor Apprentice Program
DESCRIPTION:Learn how to teach inline and roller skating and unlock opportunities to become an apprentice instructor or ambassador for Skate Journeys. This training is available for both adults and youth who share a passion for skating. \nClick here for more information: Instructor Apprentice Program 2025 – Skate Camp – Skate Journeys
URL:https://skatejourneys.org/event/apprentice-instructor-program-3/
LOCATION:Lynnwood Bowl and Skate\, 6210 200th St SW\, Lynnwood\, WA\, 98036\, United States
CATEGORIES:Featured events,highlights,Instructor Apprentice Program,Other News events
ATTACH;FMTTYPE=image/jpeg:https://skatejourneys.org/wp-content/uploads/2025/05/Apprentice-Instructor-Program-1.jpg
END:VEVENT
END:VCALENDAR