BEGIN:VCALENDAR
VERSION:2.0
PRODID:-//Skate Journeys - ECPv6.15.20//NONSGML v1.0//EN
CALSCALE:GREGORIAN
METHOD:PUBLISH
X-WR-CALNAME:Skate Journeys
X-ORIGINAL-URL:https://skatejourneys.org
X-WR-CALDESC:Events for Skate Journeys
REFRESH-INTERVAL;VALUE=DURATION:PT1H
X-Robots-Tag:noindex
X-PUBLISHED-TTL:PT1H
BEGIN:VTIMEZONE
TZID:America/Los_Angeles
BEGIN:DAYLIGHT
TZOFFSETFROM:-0800
TZOFFSETTO:-0700
TZNAME:PDT
DTSTART:20250309T100000
END:DAYLIGHT
BEGIN:STANDARD
TZOFFSETFROM:-0700
TZOFFSETTO:-0800
TZNAME:PST
DTSTART:20251102T090000
END:STANDARD
BEGIN:DAYLIGHT
TZOFFSETFROM:-0800
TZOFFSETTO:-0700
TZNAME:PDT
DTSTART:20260308T100000
END:DAYLIGHT
BEGIN:STANDARD
TZOFFSETFROM:-0700
TZOFFSETTO:-0800
TZNAME:PST
DTSTART:20261101T090000
END:STANDARD
BEGIN:DAYLIGHT
TZOFFSETFROM:-0800
TZOFFSETTO:-0700
TZNAME:PDT
DTSTART:20270314T100000
END:DAYLIGHT
BEGIN:STANDARD
TZOFFSETFROM:-0700
TZOFFSETTO:-0800
TZNAME:PST
DTSTART:20271107T090000
END:STANDARD
END:VTIMEZONE
BEGIN:VEVENT
DTSTART;TZID=America/Los_Angeles:20260411T090000
DTEND;TZID=America/Los_Angeles:20260411T103000
DTSTAMP:20260421T091119
CREATED:20260410T055741Z
LAST-MODIFIED:20260410T055743Z
UID:10004650-1775898000-1775903400@skatejourneys.org
SUMMARY:4/11 - Spring Instructor Apprentice Program: Learn to Teach Inline & Roller Skating
DESCRIPTION:Instructor Apprentice Program: Learn to Teach Inline & Roller Skating \n\nApril 11 – May 2\, 2026 | Saturdays\, 9:00–10:30am | Lynnwood Bowl & Skate \n\nA 4‑week training program for youth and adults (ages 12+) with intermediate skating skills who want to improve their skating\, learn how to teach\, and prepare for SkateIA Instructor Certification. \nCost: $125. Eligibility confirmation required before registration. \nWeekly Dates: \n\nApril 11 – Week 1\nApril 18 – Week 2\nApril 25– Week 3\nMay 2 – Week 4\n\nClick here for more information \n 
URL:https://skatejourneys.org/event/instructor-apprentice-program-learn-to-teach-inline-roller-skating-2/
LOCATION:Lynnwood Bowl and Skate\, 6210 200th St SW\, Lynnwood\, WA\, 98036\, United States
CATEGORIES:Featured events,highlights,Instructor Apprentice Program
ATTACH;FMTTYPE=image/jpeg:https://skatejourneys.org/wp-content/uploads/2025/01/Apprentice-Instructor-Program-1-1.jpg
END:VEVENT
BEGIN:VEVENT
DTSTART;TZID=America/Los_Angeles:20260418T090000
DTEND;TZID=America/Los_Angeles:20260418T103000
DTSTAMP:20260421T091119
CREATED:20260412T224112Z
LAST-MODIFIED:20260412T224113Z
UID:10004651-1776502800-1776508200@skatejourneys.org
SUMMARY:4/18 - Spring Instructor Apprentice Program: Learn to Teach Inline & Roller Skating
DESCRIPTION:Instructor Apprentice Program: Learn to Teach Inline & Roller Skating \n\nApril 11 – May 2\, 2026 | Saturdays\, 9:00–10:30am | Lynnwood Bowl & Skate \n\nA 4‑week training program for youth and adults (ages 12+) with intermediate skating skills who want to improve their skating\, learn how to teach\, and prepare for SkateIA Instructor Certification. \nCost: $125. Eligibility confirmation required before registration. \nWeekly Dates: \n\nApril 11 – Week 1\nApril 18 – Week 2\nApril 25– Week 3\nMay 2 – Week 4\n\nClick here for more information \n 
URL:https://skatejourneys.org/event/instructor-apprentice-program-learn-to-teach-inline-roller-skating-4/
LOCATION:Lynnwood Bowl and Skate\, 6210 200th St SW\, Lynnwood\, WA\, 98036\, United States
CATEGORIES:Featured events,highlights,Instructor Apprentice Program
ATTACH;FMTTYPE=image/jpeg:https://skatejourneys.org/wp-content/uploads/2025/01/Apprentice-Instructor-Program-1-1.jpg
END:VEVENT
BEGIN:VEVENT
DTSTART;TZID=America/Los_Angeles:20260425T090000
DTEND;TZID=America/Los_Angeles:20260425T103000
DTSTAMP:20260421T091119
CREATED:20260412T223945Z
LAST-MODIFIED:20260412T223946Z
UID:10004652-1777107600-1777113000@skatejourneys.org
SUMMARY:4/25 - Spring Instructor Apprentice Program: Learn to Teach Inline & Roller Skating
DESCRIPTION:Instructor Apprentice Program: Learn to Teach Inline & Roller Skating \n\nApril 11 – May 2\, 2026 | Saturdays\, 9:00–10:30am | Lynnwood Bowl & Skate \n\nA 4‑week training program for youth and adults (ages 12+) with intermediate skating skills who want to improve their skating\, learn how to teach\, and prepare for SkateIA Instructor Certification. \nCost: $125. Eligibility confirmation required before registration. \nWeekly Dates: \n\nApril 11 – Week 1\nApril 18 – Week 2\nApril 25– Week 3\nMay 2 – Week 4\n\nClick here for more information \n 
URL:https://skatejourneys.org/event/instructor-apprentice-program-learn-to-teach-inline-roller-skating-3/
LOCATION:Lynnwood Bowl and Skate\, 6210 200th St SW\, Lynnwood\, WA\, 98036\, United States
CATEGORIES:Featured events,highlights,Instructor Apprentice Program
ATTACH;FMTTYPE=image/jpeg:https://skatejourneys.org/wp-content/uploads/2025/01/Apprentice-Instructor-Program-1-1.jpg
END:VEVENT
BEGIN:VEVENT
DTSTART;TZID=America/Los_Angeles:20260502T090000
DTEND;TZID=America/Los_Angeles:20260502T103000
DTSTAMP:20260421T091119
CREATED:20260327T040939Z
LAST-MODIFIED:20260327T045605Z
UID:10004653-1777712400-1777717800@skatejourneys.org
SUMMARY:Spring Instructor Apprentice Program: Learn to Teach Inline & Roller Skating
DESCRIPTION:Instructor Apprentice Program: Learn to Teach Inline & Roller Skating \n\nApril 11 – May 2\, 2026 | Saturdays\, 9:00–10:30am | Lynnwood Bowl & Skate \n\nA 4‑week training program for youth and adults (ages 12+) with intermediate skating skills who want to improve their skating\, learn how to teach\, and prepare for SkateIA Instructor Certification. \nCost: $125. Eligibility confirmation required before registration. \nWeekly Dates: \n\nApril 11 – Week 1\nApril 18 – Week 2\nApril 25– Week 3\nMay 2 – Week 4\n\nClick here for more information \n 
URL:https://skatejourneys.org/event/instructor-apprentice-program-learn-to-teach-inline-roller-skating/2026-05-02/
LOCATION:Lynnwood Bowl and Skate\, 6210 200th St SW\, Lynnwood\, WA\, 98036\, United States
CATEGORIES:Instructor Apprentice Program
ATTACH;FMTTYPE=image/jpeg:https://skatejourneys.org/wp-content/uploads/2025/01/Apprentice-Instructor-Program-1-1.jpg
END:VEVENT
BEGIN:VEVENT
DTSTART;TZID=America/Los_Angeles:20260509T090000
DTEND;TZID=America/Los_Angeles:20260509T103000
DTSTAMP:20260421T091119
CREATED:20260327T040939Z
LAST-MODIFIED:20260327T045605Z
UID:10004665-1778317200-1778322600@skatejourneys.org
SUMMARY:Spring Instructor Apprentice Program: Learn to Teach Inline & Roller Skating
DESCRIPTION:Instructor Apprentice Program: Learn to Teach Inline & Roller Skating \n\nApril 11 – May 2\, 2026 | Saturdays\, 9:00–10:30am | Lynnwood Bowl & Skate \n\nA 4‑week training program for youth and adults (ages 12+) with intermediate skating skills who want to improve their skating\, learn how to teach\, and prepare for SkateIA Instructor Certification. \nCost: $125. Eligibility confirmation required before registration. \nWeekly Dates: \n\nApril 11 – Week 1\nApril 18 – Week 2\nApril 25– Week 3\nMay 2 – Week 4\n\nClick here for more information \n 
URL:https://skatejourneys.org/event/instructor-apprentice-program-learn-to-teach-inline-roller-skating/2026-05-09/
LOCATION:Lynnwood Bowl and Skate\, 6210 200th St SW\, Lynnwood\, WA\, 98036\, United States
CATEGORIES:Instructor Apprentice Program
ATTACH;FMTTYPE=image/jpeg:https://skatejourneys.org/wp-content/uploads/2025/01/Apprentice-Instructor-Program-1-1.jpg
END:VEVENT
BEGIN:VEVENT
DTSTART;TZID=America/Los_Angeles:20261101T090000
DTEND;TZID=America/Los_Angeles:20261101T103000
DTSTAMP:20260421T091119
CREATED:20260327T044113Z
LAST-MODIFIED:20260327T044650Z
UID:10004658-1793523600-1793529000@skatejourneys.org
SUMMARY:Fall Instructor Apprentice Program: Learn to Teach Inline & Roller Skating
DESCRIPTION:Sundays\, Nov 1 – Dec 13\, 2026 (5 Weeks + Make‑Up) \n\nLocation: Lynnwood (Issaquah if notified) \nA 5‑week Instructor Apprentice Program for youth and adults ages 12+ with intermediate skating skills. Participants will improve their own skating\, learn proven teaching methods\, and prepare for SkateIA Instructor Certification. Enrollment includes one make‑up class in 2026. Eligibility confirmation is required before registration. \nWeekly Dates: \n\nNov 1 – Week 1\nNov 8 – Week 2\nNov 15 – Week 3\nNov 22 – Week 4\nDec 6 – Week 5\nDec 13 – Make‑Up Week
URL:https://skatejourneys.org/event/fall-instructor-apprentice-program-learn-to-teach-inline-roller-skating/2026-11-01/
LOCATION:Lynnwood Bowl and Skate\, 6210 200th St SW\, Lynnwood\, WA\, 98036\, United States
CATEGORIES:Instructor Apprentice Program
ATTACH;FMTTYPE=image/jpeg:https://skatejourneys.org/wp-content/uploads/2025/01/Apprentice-Instructor-Program-1-1.jpg
END:VEVENT
BEGIN:VEVENT
DTSTART;TZID=America/Los_Angeles:20261108T090000
DTEND;TZID=America/Los_Angeles:20261108T103000
DTSTAMP:20260421T091119
CREATED:20260327T044113Z
LAST-MODIFIED:20260327T044650Z
UID:10004659-1794128400-1794133800@skatejourneys.org
SUMMARY:Fall Instructor Apprentice Program: Learn to Teach Inline & Roller Skating
DESCRIPTION:Sundays\, Nov 1 – Dec 13\, 2026 (5 Weeks + Make‑Up) \n\nLocation: Lynnwood (Issaquah if notified) \nA 5‑week Instructor Apprentice Program for youth and adults ages 12+ with intermediate skating skills. Participants will improve their own skating\, learn proven teaching methods\, and prepare for SkateIA Instructor Certification. Enrollment includes one make‑up class in 2026. Eligibility confirmation is required before registration. \nWeekly Dates: \n\nNov 1 – Week 1\nNov 8 – Week 2\nNov 15 – Week 3\nNov 22 – Week 4\nDec 6 – Week 5\nDec 13 – Make‑Up Week
URL:https://skatejourneys.org/event/fall-instructor-apprentice-program-learn-to-teach-inline-roller-skating/2026-11-08/
LOCATION:Lynnwood Bowl and Skate\, 6210 200th St SW\, Lynnwood\, WA\, 98036\, United States
CATEGORIES:Instructor Apprentice Program
ATTACH;FMTTYPE=image/jpeg:https://skatejourneys.org/wp-content/uploads/2025/01/Apprentice-Instructor-Program-1-1.jpg
END:VEVENT
BEGIN:VEVENT
DTSTART;TZID=America/Los_Angeles:20261115T090000
DTEND;TZID=America/Los_Angeles:20261115T103000
DTSTAMP:20260421T091119
CREATED:20260327T044113Z
LAST-MODIFIED:20260327T044650Z
UID:10004660-1794733200-1794738600@skatejourneys.org
SUMMARY:Fall Instructor Apprentice Program: Learn to Teach Inline & Roller Skating
DESCRIPTION:Sundays\, Nov 1 – Dec 13\, 2026 (5 Weeks + Make‑Up) \n\nLocation: Lynnwood (Issaquah if notified) \nA 5‑week Instructor Apprentice Program for youth and adults ages 12+ with intermediate skating skills. Participants will improve their own skating\, learn proven teaching methods\, and prepare for SkateIA Instructor Certification. Enrollment includes one make‑up class in 2026. Eligibility confirmation is required before registration. \nWeekly Dates: \n\nNov 1 – Week 1\nNov 8 – Week 2\nNov 15 – Week 3\nNov 22 – Week 4\nDec 6 – Week 5\nDec 13 – Make‑Up Week
URL:https://skatejourneys.org/event/fall-instructor-apprentice-program-learn-to-teach-inline-roller-skating/2026-11-15/
LOCATION:Lynnwood Bowl and Skate\, 6210 200th St SW\, Lynnwood\, WA\, 98036\, United States
CATEGORIES:Instructor Apprentice Program
ATTACH;FMTTYPE=image/jpeg:https://skatejourneys.org/wp-content/uploads/2025/01/Apprentice-Instructor-Program-1-1.jpg
END:VEVENT
BEGIN:VEVENT
DTSTART;TZID=America/Los_Angeles:20261122T090000
DTEND;TZID=America/Los_Angeles:20261122T103000
DTSTAMP:20260421T091119
CREATED:20260327T044113Z
LAST-MODIFIED:20260327T044650Z
UID:10004661-1795338000-1795343400@skatejourneys.org
SUMMARY:Fall Instructor Apprentice Program: Learn to Teach Inline & Roller Skating
DESCRIPTION:Sundays\, Nov 1 – Dec 13\, 2026 (5 Weeks + Make‑Up) \n\nLocation: Lynnwood (Issaquah if notified) \nA 5‑week Instructor Apprentice Program for youth and adults ages 12+ with intermediate skating skills. Participants will improve their own skating\, learn proven teaching methods\, and prepare for SkateIA Instructor Certification. Enrollment includes one make‑up class in 2026. Eligibility confirmation is required before registration. \nWeekly Dates: \n\nNov 1 – Week 1\nNov 8 – Week 2\nNov 15 – Week 3\nNov 22 – Week 4\nDec 6 – Week 5\nDec 13 – Make‑Up Week
URL:https://skatejourneys.org/event/fall-instructor-apprentice-program-learn-to-teach-inline-roller-skating/2026-11-22/
LOCATION:Lynnwood Bowl and Skate\, 6210 200th St SW\, Lynnwood\, WA\, 98036\, United States
CATEGORIES:Instructor Apprentice Program
ATTACH;FMTTYPE=image/jpeg:https://skatejourneys.org/wp-content/uploads/2025/01/Apprentice-Instructor-Program-1-1.jpg
END:VEVENT
BEGIN:VEVENT
DTSTART;TZID=America/Los_Angeles:20261206T090000
DTEND;TZID=America/Los_Angeles:20261206T103000
DTSTAMP:20260421T091119
CREATED:20260327T044113Z
LAST-MODIFIED:20260327T044650Z
UID:10004663-1796547600-1796553000@skatejourneys.org
SUMMARY:Fall Instructor Apprentice Program: Learn to Teach Inline & Roller Skating
DESCRIPTION:Sundays\, Nov 1 – Dec 13\, 2026 (5 Weeks + Make‑Up) \n\nLocation: Lynnwood (Issaquah if notified) \nA 5‑week Instructor Apprentice Program for youth and adults ages 12+ with intermediate skating skills. Participants will improve their own skating\, learn proven teaching methods\, and prepare for SkateIA Instructor Certification. Enrollment includes one make‑up class in 2026. Eligibility confirmation is required before registration. \nWeekly Dates: \n\nNov 1 – Week 1\nNov 8 – Week 2\nNov 15 – Week 3\nNov 22 – Week 4\nDec 6 – Week 5\nDec 13 – Make‑Up Week
URL:https://skatejourneys.org/event/fall-instructor-apprentice-program-learn-to-teach-inline-roller-skating/2026-12-06/
LOCATION:Lynnwood Bowl and Skate\, 6210 200th St SW\, Lynnwood\, WA\, 98036\, United States
CATEGORIES:Instructor Apprentice Program
ATTACH;FMTTYPE=image/jpeg:https://skatejourneys.org/wp-content/uploads/2025/01/Apprentice-Instructor-Program-1-1.jpg
END:VEVENT
BEGIN:VEVENT
DTSTART;TZID=America/Los_Angeles:20261213T090000
DTEND;TZID=America/Los_Angeles:20261213T103000
DTSTAMP:20260421T091119
CREATED:20260327T044113Z
LAST-MODIFIED:20260327T044650Z
UID:10004664-1797152400-1797157800@skatejourneys.org
SUMMARY:Fall Instructor Apprentice Program: Learn to Teach Inline & Roller Skating
DESCRIPTION:Sundays\, Nov 1 – Dec 13\, 2026 (5 Weeks + Make‑Up) \n\nLocation: Lynnwood (Issaquah if notified) \nA 5‑week Instructor Apprentice Program for youth and adults ages 12+ with intermediate skating skills. Participants will improve their own skating\, learn proven teaching methods\, and prepare for SkateIA Instructor Certification. Enrollment includes one make‑up class in 2026. Eligibility confirmation is required before registration. \nWeekly Dates: \n\nNov 1 – Week 1\nNov 8 – Week 2\nNov 15 – Week 3\nNov 22 – Week 4\nDec 6 – Week 5\nDec 13 – Make‑Up Week
URL:https://skatejourneys.org/event/fall-instructor-apprentice-program-learn-to-teach-inline-roller-skating/2026-12-13/
LOCATION:Lynnwood Bowl and Skate\, 6210 200th St SW\, Lynnwood\, WA\, 98036\, United States
CATEGORIES:Instructor Apprentice Program
ATTACH;FMTTYPE=image/jpeg:https://skatejourneys.org/wp-content/uploads/2025/01/Apprentice-Instructor-Program-1-1.jpg
END:VEVENT
END:VCALENDAR