BEGIN:VCALENDAR
VERSION:2.0
PRODID:-//Skate Journeys - ECPv6.15.20//NONSGML v1.0//EN
CALSCALE:GREGORIAN
METHOD:PUBLISH
X-ORIGINAL-URL:https://skatejourneys.org
X-WR-CALDESC:Events for Skate Journeys
REFRESH-INTERVAL;VALUE=DURATION:PT1H
X-Robots-Tag:noindex
X-PUBLISHED-TTL:PT1H
BEGIN:VTIMEZONE
TZID:America/Los_Angeles
BEGIN:DAYLIGHT
TZOFFSETFROM:-0800
TZOFFSETTO:-0700
TZNAME:PDT
DTSTART:20250309T100000
END:DAYLIGHT
BEGIN:STANDARD
TZOFFSETFROM:-0700
TZOFFSETTO:-0800
TZNAME:PST
DTSTART:20251102T090000
END:STANDARD
BEGIN:DAYLIGHT
TZOFFSETFROM:-0800
TZOFFSETTO:-0700
TZNAME:PDT
DTSTART:20260308T100000
END:DAYLIGHT
BEGIN:STANDARD
TZOFFSETFROM:-0700
TZOFFSETTO:-0800
TZNAME:PST
DTSTART:20261101T090000
END:STANDARD
BEGIN:DAYLIGHT
TZOFFSETFROM:-0800
TZOFFSETTO:-0700
TZNAME:PDT
DTSTART:20270314T100000
END:DAYLIGHT
BEGIN:STANDARD
TZOFFSETFROM:-0700
TZOFFSETTO:-0800
TZNAME:PST
DTSTART:20271107T090000
END:STANDARD
END:VTIMEZONE
BEGIN:VEVENT
DTSTART;TZID=America/Los_Angeles:20260411T090000
DTEND;TZID=America/Los_Angeles:20260411T103000
DTSTAMP:20260421T041901
CREATED:20260410T055741Z
LAST-MODIFIED:20260410T055743Z
UID:10004650-1775898000-1775903400@skatejourneys.org
SUMMARY:4/11 - Spring Instructor Apprentice Program: Learn to Teach Inline & Roller Skating
DESCRIPTION:Instructor Apprentice Program: Learn to Teach Inline & Roller Skating \n\nApril 11 – May 2\, 2026 | Saturdays\, 9:00–10:30am | Lynnwood Bowl & Skate \n\nA 4‑week training program for youth and adults (ages 12+) with intermediate skating skills who want to improve their skating\, learn how to teach\, and prepare for SkateIA Instructor Certification. \nCost: $125. Eligibility confirmation required before registration. \nWeekly Dates: \n\nApril 11 – Week 1\nApril 18 – Week 2\nApril 25– Week 3\nMay 2 – Week 4\n\nClick here for more information \n 
URL:https://skatejourneys.org/event/instructor-apprentice-program-learn-to-teach-inline-roller-skating-2/
LOCATION:Lynnwood Bowl and Skate\, 6210 200th St SW\, Lynnwood\, WA\, 98036\, United States
CATEGORIES:Featured events,highlights,Instructor Apprentice Program
ATTACH;FMTTYPE=image/jpeg:https://skatejourneys.org/wp-content/uploads/2025/01/Apprentice-Instructor-Program-1-1.jpg
END:VEVENT
END:VCALENDAR