BEGIN:VCALENDAR
VERSION:2.0
PRODID:-//Skate Journeys - ECPv6.15.20//NONSGML v1.0//EN
CALSCALE:GREGORIAN
METHOD:PUBLISH
X-ORIGINAL-URL:https://skatejourneys.org
X-WR-CALDESC:Events for Skate Journeys
REFRESH-INTERVAL;VALUE=DURATION:PT1H
X-Robots-Tag:noindex
X-PUBLISHED-TTL:PT1H
BEGIN:VTIMEZONE
TZID:America/Los_Angeles
BEGIN:DAYLIGHT
TZOFFSETFROM:-0800
TZOFFSETTO:-0700
TZNAME:PDT
DTSTART:20240310T100000
END:DAYLIGHT
BEGIN:STANDARD
TZOFFSETFROM:-0700
TZOFFSETTO:-0800
TZNAME:PST
DTSTART:20241103T090000
END:STANDARD
BEGIN:DAYLIGHT
TZOFFSETFROM:-0800
TZOFFSETTO:-0700
TZNAME:PDT
DTSTART:20250309T100000
END:DAYLIGHT
BEGIN:STANDARD
TZOFFSETFROM:-0700
TZOFFSETTO:-0800
TZNAME:PST
DTSTART:20251102T090000
END:STANDARD
BEGIN:DAYLIGHT
TZOFFSETFROM:-0800
TZOFFSETTO:-0700
TZNAME:PDT
DTSTART:20260308T100000
END:DAYLIGHT
BEGIN:STANDARD
TZOFFSETFROM:-0700
TZOFFSETTO:-0800
TZNAME:PST
DTSTART:20261101T090000
END:STANDARD
END:VTIMEZONE
BEGIN:VEVENT
DTSTART;TZID=America/Los_Angeles:20250717T080000
DTEND;TZID=America/Los_Angeles:20250717T220000
DTSTAMP:20260421T174442
CREATED:20250618T000103Z
LAST-MODIFIED:20250715T041919Z
UID:10002547-1752739200-1752789600@skatejourneys.org
SUMMARY:7/17 thru 7/20 - Seattle Spicy Salmon Roll
DESCRIPTION:Seattle’s 2nd annual inline skate event\nHosted by Seattle Distance Skating Club.\n\nThis event is free to attend\, and we are 100% volunteer-powered. \nWith our fundraising efforts\, we will be able to offer participants: bottles of water\, electrolytes powder or drinks\, snacks\, first aid kits\, sunscreen\, and event merch. \nThe Seattle Spicy Salmon Roll: Official Recipe\nTake 6-12 fresh wheels (round\, spacers included)\, stuffed with 12-24 bearings dipped in dino juice. You can also use LEDs (Light Emitting Dish) for extra spice. Put all of it into the frame and attach to your boot of choice. Wrap in seaweed. \nTake one helmet and a medley of pads wrapped around an adventurous individual…ready for a steaming four days of skating events in the Evergreen Kingdom. A tasty destination\, with its unique and challenging landscapes\, majestic views\, paired with unforgettable routes through city and trails. \nOn this bed of land\, full of wizards and mystery\, an amazing dish – with a spicy scale including all levels of urban skaters – is being meticulously prepared. \nGet your skate buds ready! \nPlease Note: This is not a Skate Journeys-hosted event. For questions or more information\, please contact the event organizer directly.
URL:https://skatejourneys.org/event/44934/2025-07-17/
LOCATION:Seattle Spicy Salmon Roll\, WA\, United States
CATEGORIES:Featured events,Other News events
ATTACH;FMTTYPE=image/jpeg:https://skatejourneys.org/wp-content/uploads/2025/06/Spicy-Salmon-Roll-1.jpg
END:VEVENT
BEGIN:VEVENT
DTSTART;TZID=America/Los_Angeles:20250718T080000
DTEND;TZID=America/Los_Angeles:20250718T220000
DTSTAMP:20260421T174442
CREATED:20250618T000103Z
LAST-MODIFIED:20250715T041919Z
UID:10002916-1752825600-1752876000@skatejourneys.org
SUMMARY:7/17 thru 7/20 - Seattle Spicy Salmon Roll
DESCRIPTION:Seattle’s 2nd annual inline skate event\nHosted by Seattle Distance Skating Club.\n\nThis event is free to attend\, and we are 100% volunteer-powered. \nWith our fundraising efforts\, we will be able to offer participants: bottles of water\, electrolytes powder or drinks\, snacks\, first aid kits\, sunscreen\, and event merch. \nThe Seattle Spicy Salmon Roll: Official Recipe\nTake 6-12 fresh wheels (round\, spacers included)\, stuffed with 12-24 bearings dipped in dino juice. You can also use LEDs (Light Emitting Dish) for extra spice. Put all of it into the frame and attach to your boot of choice. Wrap in seaweed. \nTake one helmet and a medley of pads wrapped around an adventurous individual…ready for a steaming four days of skating events in the Evergreen Kingdom. A tasty destination\, with its unique and challenging landscapes\, majestic views\, paired with unforgettable routes through city and trails. \nOn this bed of land\, full of wizards and mystery\, an amazing dish – with a spicy scale including all levels of urban skaters – is being meticulously prepared. \nGet your skate buds ready! \nPlease Note: This is not a Skate Journeys-hosted event. For questions or more information\, please contact the event organizer directly.
URL:https://skatejourneys.org/event/44934/2025-07-18/
LOCATION:Seattle Spicy Salmon Roll\, WA\, United States
CATEGORIES:Featured events,Other News events
ATTACH;FMTTYPE=image/jpeg:https://skatejourneys.org/wp-content/uploads/2025/06/Spicy-Salmon-Roll-1.jpg
END:VEVENT
BEGIN:VEVENT
DTSTART;TZID=America/Los_Angeles:20250719T080000
DTEND;TZID=America/Los_Angeles:20250719T220000
DTSTAMP:20260421T174442
CREATED:20250618T000103Z
LAST-MODIFIED:20250715T041919Z
UID:10002917-1752912000-1752962400@skatejourneys.org
SUMMARY:7/17 thru 7/20 - Seattle Spicy Salmon Roll
DESCRIPTION:Seattle’s 2nd annual inline skate event\nHosted by Seattle Distance Skating Club.\n\nThis event is free to attend\, and we are 100% volunteer-powered. \nWith our fundraising efforts\, we will be able to offer participants: bottles of water\, electrolytes powder or drinks\, snacks\, first aid kits\, sunscreen\, and event merch. \nThe Seattle Spicy Salmon Roll: Official Recipe\nTake 6-12 fresh wheels (round\, spacers included)\, stuffed with 12-24 bearings dipped in dino juice. You can also use LEDs (Light Emitting Dish) for extra spice. Put all of it into the frame and attach to your boot of choice. Wrap in seaweed. \nTake one helmet and a medley of pads wrapped around an adventurous individual…ready for a steaming four days of skating events in the Evergreen Kingdom. A tasty destination\, with its unique and challenging landscapes\, majestic views\, paired with unforgettable routes through city and trails. \nOn this bed of land\, full of wizards and mystery\, an amazing dish – with a spicy scale including all levels of urban skaters – is being meticulously prepared. \nGet your skate buds ready! \nPlease Note: This is not a Skate Journeys-hosted event. For questions or more information\, please contact the event organizer directly.
URL:https://skatejourneys.org/event/44934/2025-07-19/
LOCATION:Seattle Spicy Salmon Roll\, WA\, United States
CATEGORIES:Featured events,Other News events
ATTACH;FMTTYPE=image/jpeg:https://skatejourneys.org/wp-content/uploads/2025/06/Spicy-Salmon-Roll-1.jpg
END:VEVENT
BEGIN:VEVENT
DTSTART;TZID=America/Los_Angeles:20250720T080000
DTEND;TZID=America/Los_Angeles:20250720T220000
DTSTAMP:20260421T174442
CREATED:20250618T000103Z
LAST-MODIFIED:20250715T041919Z
UID:10002918-1752998400-1753048800@skatejourneys.org
SUMMARY:7/17 thru 7/20 - Seattle Spicy Salmon Roll
DESCRIPTION:Seattle’s 2nd annual inline skate event\nHosted by Seattle Distance Skating Club.\n\nThis event is free to attend\, and we are 100% volunteer-powered. \nWith our fundraising efforts\, we will be able to offer participants: bottles of water\, electrolytes powder or drinks\, snacks\, first aid kits\, sunscreen\, and event merch. \nThe Seattle Spicy Salmon Roll: Official Recipe\nTake 6-12 fresh wheels (round\, spacers included)\, stuffed with 12-24 bearings dipped in dino juice. You can also use LEDs (Light Emitting Dish) for extra spice. Put all of it into the frame and attach to your boot of choice. Wrap in seaweed. \nTake one helmet and a medley of pads wrapped around an adventurous individual…ready for a steaming four days of skating events in the Evergreen Kingdom. A tasty destination\, with its unique and challenging landscapes\, majestic views\, paired with unforgettable routes through city and trails. \nOn this bed of land\, full of wizards and mystery\, an amazing dish – with a spicy scale including all levels of urban skaters – is being meticulously prepared. \nGet your skate buds ready! \nPlease Note: This is not a Skate Journeys-hosted event. For questions or more information\, please contact the event organizer directly.
URL:https://skatejourneys.org/event/44934/2025-07-20/
LOCATION:Seattle Spicy Salmon Roll\, WA\, United States
CATEGORIES:Featured events,Other News events
ATTACH;FMTTYPE=image/jpeg:https://skatejourneys.org/wp-content/uploads/2025/06/Spicy-Salmon-Roll-1.jpg
END:VEVENT
END:VCALENDAR