BEGIN:VCALENDAR
VERSION:2.0
PRODID:-//Skate Journeys - ECPv6.15.20//NONSGML v1.0//EN
CALSCALE:GREGORIAN
METHOD:PUBLISH
X-ORIGINAL-URL:https://skatejourneys.org
X-WR-CALDESC:Events for Skate Journeys
REFRESH-INTERVAL;VALUE=DURATION:PT1H
X-Robots-Tag:noindex
X-PUBLISHED-TTL:PT1H
BEGIN:VTIMEZONE
TZID:America/Los_Angeles
BEGIN:DAYLIGHT
TZOFFSETFROM:-0800
TZOFFSETTO:-0700
TZNAME:PDT
DTSTART:20240310T100000
END:DAYLIGHT
BEGIN:STANDARD
TZOFFSETFROM:-0700
TZOFFSETTO:-0800
TZNAME:PST
DTSTART:20241103T090000
END:STANDARD
BEGIN:DAYLIGHT
TZOFFSETFROM:-0800
TZOFFSETTO:-0700
TZNAME:PDT
DTSTART:20250309T100000
END:DAYLIGHT
BEGIN:STANDARD
TZOFFSETFROM:-0700
TZOFFSETTO:-0800
TZNAME:PST
DTSTART:20251102T090000
END:STANDARD
BEGIN:DAYLIGHT
TZOFFSETFROM:-0800
TZOFFSETTO:-0700
TZNAME:PDT
DTSTART:20260308T100000
END:DAYLIGHT
BEGIN:STANDARD
TZOFFSETFROM:-0700
TZOFFSETTO:-0800
TZNAME:PST
DTSTART:20261101T090000
END:STANDARD
BEGIN:DAYLIGHT
TZOFFSETFROM:-0800
TZOFFSETTO:-0700
TZNAME:PDT
DTSTART:20270314T100000
END:DAYLIGHT
BEGIN:STANDARD
TZOFFSETFROM:-0700
TZOFFSETTO:-0800
TZNAME:PST
DTSTART:20271107T090000
END:STANDARD
END:VTIMEZONE
BEGIN:VEVENT
DTSTART;TZID=America/Los_Angeles:20251127T000000
DTEND;TZID=America/Los_Angeles:20251127T235900
DTSTAMP:20260421T161914
CREATED:20250331T222933Z
LAST-MODIFIED:20251127T053526Z
UID:10001584-1764201600-1764287940@skatejourneys.org
SUMMARY:Happy Thanksgiving Day
DESCRIPTION:Skate Journeys wishes you a Happy Thanksgiving Day.
URL:https://skatejourneys.org/event/happy-thanksgiving-day/
CATEGORIES:Featured events,Other News events
ATTACH;FMTTYPE=image/jpeg:https://skatejourneys.org/wp-content/uploads/2025/03/Black-Thanksgiving-Day-Facebook-Post-1280-x-720-px.jpg
END:VEVENT
BEGIN:VEVENT
DTSTART;TZID=America/Los_Angeles:20251225T000000
DTEND;TZID=America/Los_Angeles:20251225T235900
DTSTAMP:20260421T161914
CREATED:20251209T040236Z
LAST-MODIFIED:20251209T040237Z
UID:10002176-1766620800-1766707140@skatejourneys.org
SUMMARY:No Classes - Happy Holiday
DESCRIPTION:Skate Journeys wishes you a Happy Holiday Season.
URL:https://skatejourneys.org/event/happy-holiday-2-2/
CATEGORIES:Featured events,Other News events
ATTACH;FMTTYPE=image/jpeg:https://skatejourneys.org/wp-content/uploads/2025/03/Brown-and-Golden-Happy-Holidays-Christmas-Card-1280-x-720-px-1.jpg
END:VEVENT
BEGIN:VEVENT
DTSTART;TZID=America/Los_Angeles:20260308T000000
DTEND;TZID=America/Los_Angeles:20260308T235900
DTSTAMP:20260421T161914
CREATED:20251230T030415Z
LAST-MODIFIED:20260227T002854Z
UID:10004590-1772928000-1773014340@skatejourneys.org
SUMMARY:Reminder - Daylight Saving Time Begins 3/8
DESCRIPTION:“Don’t forget to set your clocks forward by one hour—Daylight Saving Time begins soon!”
URL:https://skatejourneys.org/event/daylight-saving-time-begins/
CATEGORIES:Featured events,Other News events
END:VEVENT
BEGIN:VEVENT
DTSTART;TZID=America/Los_Angeles:20260317T000000
DTEND;TZID=America/Los_Angeles:20260317T235900
DTSTAMP:20260421T161914
CREATED:20251230T030842Z
LAST-MODIFIED:20260313T010249Z
UID:10004591-1773705600-1773791940@skatejourneys.org
SUMMARY:Happy St. Patrick’s Day
DESCRIPTION:“Happy St. Patrick’s Day from Skate Journeys! May your day be filled with luck and joy.”
URL:https://skatejourneys.org/event/st-patricks-day/
CATEGORIES:Featured events,Other News events
ATTACH;FMTTYPE=image/jpeg:https://skatejourneys.org/wp-content/uploads/2025/12/St-Patricks-day.jpg
END:VEVENT
END:VCALENDAR