BEGIN:VCALENDAR
VERSION:2.0
PRODID:-//Skate Journeys - ECPv6.15.20//NONSGML v1.0//EN
CALSCALE:GREGORIAN
METHOD:PUBLISH
X-WR-CALNAME:Skate Journeys
X-ORIGINAL-URL:https://skatejourneys.org
X-WR-CALDESC:Events for Skate Journeys
REFRESH-INTERVAL;VALUE=DURATION:PT1H
X-Robots-Tag:noindex
X-PUBLISHED-TTL:PT1H
BEGIN:VTIMEZONE
TZID:America/Los_Angeles
BEGIN:DAYLIGHT
TZOFFSETFROM:-0800
TZOFFSETTO:-0700
TZNAME:PDT
DTSTART:20240310T100000
END:DAYLIGHT
BEGIN:STANDARD
TZOFFSETFROM:-0700
TZOFFSETTO:-0800
TZNAME:PST
DTSTART:20241103T090000
END:STANDARD
BEGIN:DAYLIGHT
TZOFFSETFROM:-0800
TZOFFSETTO:-0700
TZNAME:PDT
DTSTART:20250309T100000
END:DAYLIGHT
BEGIN:STANDARD
TZOFFSETFROM:-0700
TZOFFSETTO:-0800
TZNAME:PST
DTSTART:20251102T090000
END:STANDARD
BEGIN:DAYLIGHT
TZOFFSETFROM:-0800
TZOFFSETTO:-0700
TZNAME:PDT
DTSTART:20260308T100000
END:DAYLIGHT
BEGIN:STANDARD
TZOFFSETFROM:-0700
TZOFFSETTO:-0800
TZNAME:PST
DTSTART:20261101T090000
END:STANDARD
END:VTIMEZONE
BEGIN:VEVENT
DTSTART;TZID=America/Los_Angeles:20251019T084500
DTEND;TZID=America/Los_Angeles:20251019T104500
DTSTAMP:20260421T192212
CREATED:20250508T062316Z
LAST-MODIFIED:20251008T054752Z
UID:10000348-1760863500-1760870700@skatejourneys.org
SUMMARY:Starts 10/19 - Lynnwood Instructor Apprentice Program
DESCRIPTION:Learn how to teach inline and roller skating and unlock opportunities to become an apprentice instructor or ambassador for Skate Journeys. This training is available for both adults and youth who share a passion for skating. \nClick here for more information: Instructor Apprentice Program 2025 – Skate Camp – Skate Journeys
URL:https://skatejourneys.org/event/apprentice-instructor-program-3/
LOCATION:Lynnwood Bowl and Skate\, 6210 200th St SW\, Lynnwood\, WA\, 98036\, United States
CATEGORIES:Featured events,highlights,Instructor Apprentice Program,Other News events
ATTACH;FMTTYPE=image/jpeg:https://skatejourneys.org/wp-content/uploads/2025/05/Apprentice-Instructor-Program-1.jpg
END:VEVENT
END:VCALENDAR