BEGIN:VCALENDAR
VERSION:2.0
PRODID:-//Skate Journeys - ECPv6.15.20//NONSGML v1.0//EN
CALSCALE:GREGORIAN
METHOD:PUBLISH
X-WR-CALNAME:Skate Journeys
X-ORIGINAL-URL:https://skatejourneys.org
X-WR-CALDESC:Events for Skate Journeys
REFRESH-INTERVAL;VALUE=DURATION:PT1H
X-Robots-Tag:noindex
X-PUBLISHED-TTL:PT1H
BEGIN:VTIMEZONE
TZID:America/Los_Angeles
BEGIN:DAYLIGHT
TZOFFSETFROM:-0800
TZOFFSETTO:-0700
TZNAME:PDT
DTSTART:20240310T100000
END:DAYLIGHT
BEGIN:STANDARD
TZOFFSETFROM:-0700
TZOFFSETTO:-0800
TZNAME:PST
DTSTART:20241103T090000
END:STANDARD
BEGIN:DAYLIGHT
TZOFFSETFROM:-0800
TZOFFSETTO:-0700
TZNAME:PDT
DTSTART:20250309T100000
END:DAYLIGHT
BEGIN:STANDARD
TZOFFSETFROM:-0700
TZOFFSETTO:-0800
TZNAME:PST
DTSTART:20251102T090000
END:STANDARD
BEGIN:DAYLIGHT
TZOFFSETFROM:-0800
TZOFFSETTO:-0700
TZNAME:PDT
DTSTART:20260308T100000
END:DAYLIGHT
BEGIN:STANDARD
TZOFFSETFROM:-0700
TZOFFSETTO:-0800
TZNAME:PST
DTSTART:20261101T090000
END:STANDARD
END:VTIMEZONE
BEGIN:VEVENT
DTSTART;TZID=America/Los_Angeles:20251111T000000
DTEND;TZID=America/Los_Angeles:20251111T235900
DTSTAMP:20260422T212054
CREATED:20250331T222549Z
LAST-MODIFIED:20250704T033357Z
UID:10001583-1762819200-1762905540@skatejourneys.org
SUMMARY:Happy Veteran's Day
DESCRIPTION:Skate Journeys wishes you a Happy Veteran’s Day.\nToday\, we honor and thank all veterans for their service\, sacrifice\, and dedication. Your courage and commitment have helped shape the freedoms we enjoy every day. We are deeply grateful for your contributions and proud to stand in appreciation of all who have served.
URL:https://skatejourneys.org/event/veterans-day/
CATEGORIES:Featured events
ATTACH;FMTTYPE=image/jpeg:https://skatejourneys.org/wp-content/uploads/2025/03/Blue-Monochrome-Stars-Flag-Veterans-Day-Quote-Instagram-Post-1280-x-720-px-1.jpg
END:VEVENT
END:VCALENDAR