BEGIN:VCALENDAR
VERSION:2.0
PRODID:-//Skate Journeys - ECPv6.15.20//NONSGML v1.0//EN
CALSCALE:GREGORIAN
METHOD:PUBLISH
X-WR-CALNAME:Skate Journeys
X-ORIGINAL-URL:https://skatejourneys.org
X-WR-CALDESC:Events for Skate Journeys
REFRESH-INTERVAL;VALUE=DURATION:PT1H
X-Robots-Tag:noindex
X-PUBLISHED-TTL:PT1H
BEGIN:VTIMEZONE
TZID:America/Los_Angeles
BEGIN:DAYLIGHT
TZOFFSETFROM:-0800
TZOFFSETTO:-0700
TZNAME:PDT
DTSTART:20240310T100000
END:DAYLIGHT
BEGIN:STANDARD
TZOFFSETFROM:-0700
TZOFFSETTO:-0800
TZNAME:PST
DTSTART:20241103T090000
END:STANDARD
BEGIN:DAYLIGHT
TZOFFSETFROM:-0800
TZOFFSETTO:-0700
TZNAME:PDT
DTSTART:20250309T100000
END:DAYLIGHT
BEGIN:STANDARD
TZOFFSETFROM:-0700
TZOFFSETTO:-0800
TZNAME:PST
DTSTART:20251102T090000
END:STANDARD
BEGIN:DAYLIGHT
TZOFFSETFROM:-0800
TZOFFSETTO:-0700
TZNAME:PDT
DTSTART:20260308T100000
END:DAYLIGHT
BEGIN:STANDARD
TZOFFSETFROM:-0700
TZOFFSETTO:-0800
TZNAME:PST
DTSTART:20261101T090000
END:STANDARD
END:VTIMEZONE
BEGIN:VEVENT
DTSTART;TZID=America/Los_Angeles:20251127T000000
DTEND;TZID=America/Los_Angeles:20251127T235900
DTSTAMP:20260422T155110
CREATED:20250331T222933Z
LAST-MODIFIED:20251127T053526Z
UID:10001584-1764201600-1764287940@skatejourneys.org
SUMMARY:Happy Thanksgiving Day
DESCRIPTION:Skate Journeys wishes you a Happy Thanksgiving Day.
URL:https://skatejourneys.org/event/happy-thanksgiving-day/
CATEGORIES:Featured events,Other News events
ATTACH;FMTTYPE=image/jpeg:https://skatejourneys.org/wp-content/uploads/2025/03/Black-Thanksgiving-Day-Facebook-Post-1280-x-720-px.jpg
END:VEVENT
BEGIN:VEVENT
DTSTART;TZID=America/Los_Angeles:20251128T000000
DTEND;TZID=America/Los_Angeles:20251128T235900
DTSTAMP:20260422T155110
CREATED:20250704T033105Z
LAST-MODIFIED:20250704T033106Z
UID:10003654-1764288000-1764374340@skatejourneys.org
SUMMARY:No Classes - Happy Thanksgiving Weekend
DESCRIPTION:Skate Journeys wishes you a Happy Thanksgiving Day.
URL:https://skatejourneys.org/event/happy-thanksgiving-day-2/2025-11-28/
CATEGORIES:Featured events
ATTACH;FMTTYPE=image/jpeg:https://skatejourneys.org/wp-content/uploads/2025/03/Black-Thanksgiving-Day-Facebook-Post-1280-x-720-px.jpg
END:VEVENT
BEGIN:VEVENT
DTSTART;TZID=America/Los_Angeles:20251129T000000
DTEND;TZID=America/Los_Angeles:20251129T235900
DTSTAMP:20260422T155110
CREATED:20250704T033105Z
LAST-MODIFIED:20250704T033106Z
UID:10003655-1764374400-1764460740@skatejourneys.org
SUMMARY:No Classes - Happy Thanksgiving Weekend
DESCRIPTION:Skate Journeys wishes you a Happy Thanksgiving Day.
URL:https://skatejourneys.org/event/happy-thanksgiving-day-2/2025-11-29/
CATEGORIES:Featured events
ATTACH;FMTTYPE=image/jpeg:https://skatejourneys.org/wp-content/uploads/2025/03/Black-Thanksgiving-Day-Facebook-Post-1280-x-720-px.jpg
END:VEVENT
BEGIN:VEVENT
DTSTART;TZID=America/Los_Angeles:20251130T000000
DTEND;TZID=America/Los_Angeles:20251130T235900
DTSTAMP:20260422T155110
CREATED:20250704T033105Z
LAST-MODIFIED:20250704T033106Z
UID:10003656-1764460800-1764547140@skatejourneys.org
SUMMARY:No Classes - Happy Thanksgiving Weekend
DESCRIPTION:Skate Journeys wishes you a Happy Thanksgiving Day.
URL:https://skatejourneys.org/event/happy-thanksgiving-day-2/2025-11-30/
CATEGORIES:Featured events
ATTACH;FMTTYPE=image/jpeg:https://skatejourneys.org/wp-content/uploads/2025/03/Black-Thanksgiving-Day-Facebook-Post-1280-x-720-px.jpg
END:VEVENT
END:VCALENDAR